
BEGIN:VCALENDAR
VERSION:2.0
PRODID:-//Olympic Park Neighborhood Council - ECPv6.15.17.1//NONSGML v1.0//EN
CALSCALE:GREGORIAN
METHOD:PUBLISH
X-ORIGINAL-URL:https://opnc.org
X-WR-CALDESC:Events for Olympic Park Neighborhood Council
REFRESH-INTERVAL;VALUE=DURATION:PT1H
X-Robots-Tag:noindex
X-PUBLISHED-TTL:PT1H
BEGIN:VTIMEZONE
TZID:America/Los_Angeles
BEGIN:DAYLIGHT
TZOFFSETFROM:-0800
TZOFFSETTO:-0700
TZNAME:PDT
DTSTART:20160313T100000
END:DAYLIGHT
BEGIN:STANDARD
TZOFFSETFROM:-0700
TZOFFSETTO:-0800
TZNAME:PST
DTSTART:20161106T090000
END:STANDARD
BEGIN:DAYLIGHT
TZOFFSETFROM:-0800
TZOFFSETTO:-0700
TZNAME:PDT
DTSTART:20170312T100000
END:DAYLIGHT
BEGIN:STANDARD
TZOFFSETFROM:-0700
TZOFFSETTO:-0800
TZNAME:PST
DTSTART:20171105T090000
END:STANDARD
BEGIN:DAYLIGHT
TZOFFSETFROM:-0800
TZOFFSETTO:-0700
TZNAME:PDT
DTSTART:20180311T100000
END:DAYLIGHT
BEGIN:STANDARD
TZOFFSETFROM:-0700
TZOFFSETTO:-0800
TZNAME:PST
DTSTART:20181104T090000
END:STANDARD
END:VTIMEZONE
BEGIN:VEVENT
DTSTART;TZID=America/Los_Angeles:20170715T120000
DTEND;TZID=America/Los_Angeles:20170715T210000
DTSTAMP:20260421T183610
CREATED:20170405T173751Z
LAST-MODIFIED:20170405T173751Z
UID:1274-1500120000-1500152400@opnc.org
SUMMARY:Lotus Festival
DESCRIPTION:
URL:https://opnc.org/event/lotus-festival-3/2017-07-15/
LOCATION:Echo Park Lake\, 751 Echo Park Ave\, Los Angeles
CATEGORIES:Events
GEO:34.0733179;-118.2600119
X-APPLE-STRUCTURED-LOCATION;VALUE=URI;X-ADDRESS=Echo Park Lake 751 Echo Park Ave Los Angeles;X-APPLE-RADIUS=500;X-TITLE=751 Echo Park Ave:geo:-118.2600119,34.0733179
END:VEVENT
END:VCALENDAR