
BEGIN:VCALENDAR
VERSION:2.0
PRODID:-//Olympic Park Neighborhood Council - ECPv6.15.17.1//NONSGML v1.0//EN
CALSCALE:GREGORIAN
METHOD:PUBLISH
X-ORIGINAL-URL:https://opnc.org
X-WR-CALDESC:Events for Olympic Park Neighborhood Council
REFRESH-INTERVAL;VALUE=DURATION:PT1H
X-Robots-Tag:noindex
X-PUBLISHED-TTL:PT1H
BEGIN:VTIMEZONE
TZID:America/Los_Angeles
BEGIN:DAYLIGHT
TZOFFSETFROM:-0800
TZOFFSETTO:-0700
TZNAME:PDT
DTSTART:20150308T100000
END:DAYLIGHT
BEGIN:STANDARD
TZOFFSETFROM:-0700
TZOFFSETTO:-0800
TZNAME:PST
DTSTART:20151101T090000
END:STANDARD
BEGIN:DAYLIGHT
TZOFFSETFROM:-0800
TZOFFSETTO:-0700
TZNAME:PDT
DTSTART:20160313T100000
END:DAYLIGHT
BEGIN:STANDARD
TZOFFSETFROM:-0700
TZOFFSETTO:-0800
TZNAME:PST
DTSTART:20161106T090000
END:STANDARD
BEGIN:DAYLIGHT
TZOFFSETFROM:-0800
TZOFFSETTO:-0700
TZNAME:PDT
DTSTART:20170312T100000
END:DAYLIGHT
BEGIN:STANDARD
TZOFFSETFROM:-0700
TZOFFSETTO:-0800
TZNAME:PST
DTSTART:20171105T090000
END:STANDARD
END:VTIMEZONE
BEGIN:VEVENT
DTSTART;TZID=America/Los_Angeles:20160427T070000
DTEND;TZID=America/Los_Angeles:20160427T160000
DTSTAMP:20260421T165805
CREATED:20160404T211822Z
LAST-MODIFIED:20160404T211822Z
UID:476-1461740400-1461772800@opnc.org
SUMMARY:Free 3 Day Medical Clinic
DESCRIPTION:How can I get more information? \nBy calling 1 (888) 44-Pathway (888-447-2849) \nDoors will be open from 7a.m. until 4p.m.\, April 27-28.  On Friday\, April 29\, doors will be open from 7a.m. until 2p.m.  Some patients will come early.  First come\, first served.  They will treat as many patients as they have space and services available.
URL:https://opnc.org/event/free-3-day-medical-clinic/2016-04-27/
LOCATION:Los Angeles Convention Center
CATEGORIES:Events
END:VEVENT
END:VCALENDAR