
BEGIN:VCALENDAR
VERSION:2.0
PRODID:-//Olympic Park Neighborhood Council - ECPv6.15.17.1//NONSGML v1.0//EN
CALSCALE:GREGORIAN
METHOD:PUBLISH
X-WR-CALNAME:Olympic Park Neighborhood Council
X-ORIGINAL-URL:https://opnc.org
X-WR-CALDESC:Events for Olympic Park Neighborhood Council
REFRESH-INTERVAL;VALUE=DURATION:PT1H
X-Robots-Tag:noindex
X-PUBLISHED-TTL:PT1H
BEGIN:VTIMEZONE
TZID:America/Los_Angeles
BEGIN:DAYLIGHT
TZOFFSETFROM:-0800
TZOFFSETTO:-0700
TZNAME:PDT
DTSTART:20190310T100000
END:DAYLIGHT
BEGIN:STANDARD
TZOFFSETFROM:-0700
TZOFFSETTO:-0800
TZNAME:PST
DTSTART:20191103T090000
END:STANDARD
BEGIN:DAYLIGHT
TZOFFSETFROM:-0800
TZOFFSETTO:-0700
TZNAME:PDT
DTSTART:20200308T100000
END:DAYLIGHT
BEGIN:STANDARD
TZOFFSETFROM:-0700
TZOFFSETTO:-0800
TZNAME:PST
DTSTART:20201101T090000
END:STANDARD
BEGIN:DAYLIGHT
TZOFFSETFROM:-0800
TZOFFSETTO:-0700
TZNAME:PDT
DTSTART:20210314T100000
END:DAYLIGHT
BEGIN:STANDARD
TZOFFSETFROM:-0700
TZOFFSETTO:-0800
TZNAME:PST
DTSTART:20211107T090000
END:STANDARD
END:VTIMEZONE
BEGIN:VEVENT
DTSTART;TZID=America/Los_Angeles:20200910T163000
DTEND;TZID=America/Los_Angeles:20200910T173000
DTSTAMP:20260421T121316
CREATED:20200911T002442Z
LAST-MODIFIED:20200911T002442Z
UID:3553-1599755400-1599759000@opnc.org
SUMMARY:Forum on Police Reform
DESCRIPTION:Join the meeting: https://lapd.zoom.us/j/97273589743 \nThe City of Los Angeles Board of Police Commissioners and the Advisory Committee on Building Trust and Equity will be hosting a forum series aimed at listening to ideas and suggestions for police reform from community groups\, social justice advocates\, clergy\, academics\, and other community-based organizations.\nThe fist forum was held on September 3rd. The next forum will be held September 10th at 4:30PM and weekly through October 1. \nAll are invited to listen in. Anyone wishing to submit their proposals on police reform can do so by emailing them to policecommissionadvisorycommittee@lapd.online
URL:https://opnc.org/event/forum-on-police-reform/2020-09-10/
CATEGORIES:Events
END:VEVENT
END:VCALENDAR