
BEGIN:VCALENDAR
VERSION:2.0
PRODID:-//Olympic Park Neighborhood Council - ECPv6.15.17.1//NONSGML v1.0//EN
CALSCALE:GREGORIAN
METHOD:PUBLISH
X-ORIGINAL-URL:https://opnc.org
X-WR-CALDESC:Events for Olympic Park Neighborhood Council
REFRESH-INTERVAL;VALUE=DURATION:PT1H
X-Robots-Tag:noindex
X-PUBLISHED-TTL:PT1H
BEGIN:VTIMEZONE
TZID:America/Los_Angeles
BEGIN:DAYLIGHT
TZOFFSETFROM:-0800
TZOFFSETTO:-0700
TZNAME:PDT
DTSTART:20180311T100000
END:DAYLIGHT
BEGIN:STANDARD
TZOFFSETFROM:-0700
TZOFFSETTO:-0800
TZNAME:PST
DTSTART:20181104T090000
END:STANDARD
BEGIN:DAYLIGHT
TZOFFSETFROM:-0800
TZOFFSETTO:-0700
TZNAME:PDT
DTSTART:20190310T100000
END:DAYLIGHT
BEGIN:STANDARD
TZOFFSETFROM:-0700
TZOFFSETTO:-0800
TZNAME:PST
DTSTART:20191103T090000
END:STANDARD
BEGIN:DAYLIGHT
TZOFFSETFROM:-0800
TZOFFSETTO:-0700
TZNAME:PDT
DTSTART:20200308T100000
END:DAYLIGHT
BEGIN:STANDARD
TZOFFSETFROM:-0700
TZOFFSETTO:-0800
TZNAME:PST
DTSTART:20201101T090000
END:STANDARD
END:VTIMEZONE
BEGIN:VEVENT
DTSTART;TZID=America/Los_Angeles:20191005T120000
DTEND;TZID=America/Los_Angeles:20191005T170000
DTSTAMP:20260421T165433
CREATED:20191004T170104Z
LAST-MODIFIED:20191004T170104Z
UID:2914-1570276800-1570294800@opnc.org
SUMMARY:Enchanted Servers
DESCRIPTION:Enchanted Servers\, Leimert Plaza Park\, Leimert Park\, Council District 10 \npresented by Nari Ward \nSaturday\, 10/5\, 12pm – 5pm\nSaturday\, 10/12\, 12pm – 5pm\nSaturday\, 10/26\, 12pm – 5pm\nSaturday\, 11/2\, 12pm – 5pm \nEnchanted Servers features new sculpture and a site-specific audio soundscape installation by CURRENT artist Nari Ward. Enjoy diverse menus from South LA food trucks on-site\, an open-air participatory photo booth\, and live performances by the S.H.I.N.E. Mawusi Women’s African Drum Circle (performances at 1:00 p.m. and 3:00 p.m.). Capacity is limited; RSVP preferred\, space given on a first-come\, first-served basis. \nCURRENT:LA puts a new spin on traditional international triennials by democratizing the way people access art. The initiative shifts art away from the museum environment and places temporary public art projects and public programs in the neighborhoods of Los Angeles where residents and visitors live\, work\, and play. \nCURRENT:LA uses contemporary art as a way to deepen connections on issues affecting Los Angeles and other global cities to inspire civic discourse on those particular issues. \nCURRENT:LA is funded by the City of Los Angeles Department of Cultural Affairs.
URL:https://opnc.org/event/enchanted-servers/2019-10-05/
LOCATION:Leimert Plaza Park\, 4395 Leimert Park Plaza\, Los Angeles\, 90008\, United States
CATEGORIES:Events
END:VEVENT
END:VCALENDAR