
BEGIN:VCALENDAR
VERSION:2.0
PRODID:-//Olympic Park Neighborhood Council - ECPv6.15.17.1//NONSGML v1.0//EN
CALSCALE:GREGORIAN
METHOD:PUBLISH
X-WR-CALNAME:Olympic Park Neighborhood Council
X-ORIGINAL-URL:https://opnc.org
X-WR-CALDESC:Events for Olympic Park Neighborhood Council
REFRESH-INTERVAL;VALUE=DURATION:PT1H
X-Robots-Tag:noindex
X-PUBLISHED-TTL:PT1H
BEGIN:VTIMEZONE
TZID:America/Los_Angeles
BEGIN:DAYLIGHT
TZOFFSETFROM:-0800
TZOFFSETTO:-0700
TZNAME:PDT
DTSTART:20160313T100000
END:DAYLIGHT
BEGIN:STANDARD
TZOFFSETFROM:-0700
TZOFFSETTO:-0800
TZNAME:PST
DTSTART:20161106T090000
END:STANDARD
BEGIN:DAYLIGHT
TZOFFSETFROM:-0800
TZOFFSETTO:-0700
TZNAME:PDT
DTSTART:20170312T100000
END:DAYLIGHT
BEGIN:STANDARD
TZOFFSETFROM:-0700
TZOFFSETTO:-0800
TZNAME:PST
DTSTART:20171105T090000
END:STANDARD
BEGIN:DAYLIGHT
TZOFFSETFROM:-0800
TZOFFSETTO:-0700
TZNAME:PDT
DTSTART:20180311T100000
END:DAYLIGHT
BEGIN:STANDARD
TZOFFSETFROM:-0700
TZOFFSETTO:-0800
TZNAME:PST
DTSTART:20181104T090000
END:STANDARD
END:VTIMEZONE
BEGIN:VEVENT
DTSTART;TZID=America/Los_Angeles:20170815T180000
DTEND;TZID=America/Los_Angeles:20170815T213000
DTSTAMP:20260421T214124
CREATED:20170803T214521Z
LAST-MODIFIED:20170803T214521Z
UID:1522-1502820000-1502832600@opnc.org
SUMMARY:City Planning 101
DESCRIPTION:Ever wonder how construction projects get approved\, and what rules govern land use and zoning? The Department of City Planning along with the Department of Neighborhood Empowerment are sponsoring Planning 101 training sessions that will give participants an overview of the basic essentials of planning\, land use and zoning in the City of Los Angeles. \nThere are six sessions spread across the entire city. Nearby sessions are Tuesday\, August 15 at City Hall East\, 200 N.Main Street\, #351 and Wednesday\, August 16 in the Westchester Municipal Building\, 7166 W. Manchester Ave\, Community Room. For more information and to RSVP contact Lisette Covarrubias at Lisette.covarrubias@lacity.org or by phone at 213-978-1321.
URL:https://opnc.org/event/city-planning-101/2017-08-15/
CATEGORIES:Events
END:VEVENT
END:VCALENDAR