
BEGIN:VCALENDAR
VERSION:2.0
PRODID:-//Olympic Park Neighborhood Council - ECPv6.15.17.1//NONSGML v1.0//EN
CALSCALE:GREGORIAN
METHOD:PUBLISH
X-ORIGINAL-URL:https://opnc.org
X-WR-CALDESC:Events for Olympic Park Neighborhood Council
REFRESH-INTERVAL;VALUE=DURATION:PT1H
X-Robots-Tag:noindex
X-PUBLISHED-TTL:PT1H
BEGIN:VTIMEZONE
TZID:America/Los_Angeles
BEGIN:DAYLIGHT
TZOFFSETFROM:-0800
TZOFFSETTO:-0700
TZNAME:PDT
DTSTART:20190310T100000
END:DAYLIGHT
BEGIN:STANDARD
TZOFFSETFROM:-0700
TZOFFSETTO:-0800
TZNAME:PST
DTSTART:20191103T090000
END:STANDARD
BEGIN:DAYLIGHT
TZOFFSETFROM:-0800
TZOFFSETTO:-0700
TZNAME:PDT
DTSTART:20200308T100000
END:DAYLIGHT
BEGIN:STANDARD
TZOFFSETFROM:-0700
TZOFFSETTO:-0800
TZNAME:PST
DTSTART:20201101T090000
END:STANDARD
BEGIN:DAYLIGHT
TZOFFSETFROM:-0800
TZOFFSETTO:-0700
TZNAME:PDT
DTSTART:20210314T100000
END:DAYLIGHT
BEGIN:STANDARD
TZOFFSETFROM:-0700
TZOFFSETTO:-0800
TZNAME:PST
DTSTART:20211107T090000
END:STANDARD
END:VTIMEZONE
BEGIN:VEVENT
DTSTART;TZID=America/Los_Angeles:20201205T150000
DTEND;TZID=America/Los_Angeles:20201205T170000
DTSTAMP:20260421T201306
CREATED:20201205T004702Z
LAST-MODIFIED:20201205T004702Z
UID:3678-1607180400-1607187600@opnc.org
SUMMARY:Candidate Information Session
DESCRIPTION:At the Neighborhood Council Candidate Info Session\, you’ll learn tips for: \n\nrunning a successful campaign\nconnecting with voters\nadvocating for issues you’re passionate about\nwriting your personal statements\nfilling out your candidate application with the City Clerk\n\nThis virtual session will take place on Zoom. Details to join the session online or by phone will be shared in your RSVP confirmation email. \nSign up on eventbrite
URL:https://opnc.org/event/candidate-information-session/2020-12-05/
CATEGORIES:Events
END:VEVENT
END:VCALENDAR