
BEGIN:VCALENDAR
VERSION:2.0
PRODID:-//Olympic Park Neighborhood Council - ECPv6.15.17.1//NONSGML v1.0//EN
CALSCALE:GREGORIAN
METHOD:PUBLISH
X-ORIGINAL-URL:https://opnc.org
X-WR-CALDESC:Events for Olympic Park Neighborhood Council
REFRESH-INTERVAL;VALUE=DURATION:PT1H
X-Robots-Tag:noindex
X-PUBLISHED-TTL:PT1H
BEGIN:VTIMEZONE
TZID:America/Los_Angeles
BEGIN:DAYLIGHT
TZOFFSETFROM:-0800
TZOFFSETTO:-0700
TZNAME:PDT
DTSTART:20250309T100000
END:DAYLIGHT
BEGIN:STANDARD
TZOFFSETFROM:-0700
TZOFFSETTO:-0800
TZNAME:PST
DTSTART:20251102T090000
END:STANDARD
BEGIN:DAYLIGHT
TZOFFSETFROM:-0800
TZOFFSETTO:-0700
TZNAME:PDT
DTSTART:20260308T100000
END:DAYLIGHT
BEGIN:STANDARD
TZOFFSETFROM:-0700
TZOFFSETTO:-0800
TZNAME:PST
DTSTART:20261101T090000
END:STANDARD
BEGIN:DAYLIGHT
TZOFFSETFROM:-0800
TZOFFSETTO:-0700
TZNAME:PDT
DTSTART:20270314T100000
END:DAYLIGHT
BEGIN:STANDARD
TZOFFSETFROM:-0700
TZOFFSETTO:-0800
TZNAME:PST
DTSTART:20271107T090000
END:STANDARD
END:VTIMEZONE
BEGIN:VEVENT
DTSTART;TZID=America/Los_Angeles:20260426T090000
DTEND;TZID=America/Los_Angeles:20260426T160000
DTSTAMP:20260421T055116
CREATED:20260415T192630Z
LAST-MODIFIED:20260415T192630Z
UID:9936-1777194000-1777219200@opnc.org
SUMMARY:CicLAvia West LA
DESCRIPTION:Join us for our upcoming Los Angeles Open Streets Event: CicLAvia—West LA! \nDate: Sunday\, April 26\, 2026 / domingo 26 de abril 2026 \nTime: 9am–4pm \nLocation: Connecting Santa Monica Blvd and Westwood Blvd \nWhat: CicLAvia is a nonprofit organization that has been opening streets throughout LA County since 2010. Come experience car-free open streets at our upcoming event\, CicLAvia—West LA.
URL:https://opnc.org/event/ciclavia-west-la/
CATEGORIES:Events
END:VEVENT
END:VCALENDAR